BEGIN:VCALENDAR
VERSION:2.0
PRODID:-//ÖFdV GmbH - ECPv6.15.20//NONSGML v1.0//EN
CALSCALE:GREGORIAN
METHOD:PUBLISH
X-ORIGINAL-URL:https://oefdv.avoe.at
X-WR-CALDESC:Veranstaltungen für ÖFdV GmbH
REFRESH-INTERVAL;VALUE=DURATION:PT1H
X-Robots-Tag:noindex
X-PUBLISHED-TTL:PT1H
BEGIN:VTIMEZONE
TZID:Europe/Vienna
BEGIN:DAYLIGHT
TZOFFSETFROM:+0100
TZOFFSETTO:+0200
TZNAME:CEST
DTSTART:20230326T010000
END:DAYLIGHT
BEGIN:STANDARD
TZOFFSETFROM:+0200
TZOFFSETTO:+0100
TZNAME:CET
DTSTART:20231029T010000
END:STANDARD
BEGIN:DAYLIGHT
TZOFFSETFROM:+0100
TZOFFSETTO:+0200
TZNAME:CEST
DTSTART:20240331T010000
END:DAYLIGHT
BEGIN:STANDARD
TZOFFSETFROM:+0200
TZOFFSETTO:+0100
TZNAME:CET
DTSTART:20241027T010000
END:STANDARD
BEGIN:DAYLIGHT
TZOFFSETFROM:+0100
TZOFFSETTO:+0200
TZNAME:CEST
DTSTART:20250330T010000
END:DAYLIGHT
BEGIN:STANDARD
TZOFFSETFROM:+0200
TZOFFSETTO:+0100
TZNAME:CET
DTSTART:20251026T010000
END:STANDARD
END:VTIMEZONE
BEGIN:VEVENT
DTSTART;TZID=Europe/Vienna:20241022T130000
DTEND;TZID=Europe/Vienna:20241022T173000
DTSTAMP:20260424T012533
CREATED:20240815T124124Z
LAST-MODIFIED:20240926T162309Z
UID:10000092-1729602000-1729618200@oefdv.avoe.at
SUMMARY:Der Lebenszyklus des Versicherungsvertrages – ein Streifzug durch das allgemeine Versicherungsvertragsrecht
DESCRIPTION:Inhalte \nDie Kenntnis des allgemeinen Versicherungsvertragsrechtes ist essentiell\, wenn man in der Versicherungsbranche tätig ist. Das Seminar gibt einen praxisnahen Überblick über die wesentlichen Bestimmungen samt Beispielen aus der OGH-Rechtsprechung. \nWesentliche Inhalte: \n\nVertragsabschluss\nPrämie\nRücktrittsrecht und Leistungsfreiheit\n\nVorvertragliche Aufklärungspflicht\nGefahrerhöhung\nObliegenheiten\n\n\nFälligkeit und Verjährung\nKündigung\n\nOrt der Veranstaltung: Hotel Regina \nArt der Veranstaltung: Präsenzseminar \nZielgruppe: Dieses Seminar behandelt Versicherungverträge aus allgemeiner Sicht und richtet sich sowohl an Aktuar:innen in der Lebens- und Krankenversicherung als auch in der Sachversicherung. \nPreis:  440 Euro (inkl. Ust.)\, AVÖ-Mitglieder 390 Euro (inkl. Ust.)\nCPD-Punkte: 4 \n\nÜber die Vortragende: \nDr. Nora Michtner \n\nGeboren 1985\nRechtsanwältin und Gesellschafterin bei Singer Fössl Rechtsanwälte OG in Wien\nSpezialisiert auf Versicherungsvertragsrecht und Gesellschaftsrecht\nGastlektorin an der Universität für Weiterbildung Krems und der FH Wien\nHerausgeberin und Autorin des VersVG-Online-Kommentars der Versicherungsrechtsdatenbank versdb.com\nZahlreiche Publikationen in Fachzeitschriften\, Herausgeberin des Blogs blog-versicherungsrecht.at (https://www.sfr.at/blog-versicherungsrecht/)\nViel gebuchte Vortragende im Bereich Versicherungsrecht und Gesellschafterstreit\n\n 
URL:https://oefdv.avoe.at/event/der-lebenszyklus-des-versicherungsvertrages-ein-streifzug-durch-das-allge-meine-versicherungsvertragsrecht/
LOCATION:Hotel Regina\, Rooseveltplatz 15\, Wien\, 1090\, Österreich
ORGANIZER;CN="%C3%96FdV GmbH":MAILTO:sekretariat@oefdv-gmbh.at
END:VEVENT
END:VCALENDAR