BEGIN:VCALENDAR
VERSION:2.0
PRODID:-//ÖFdV GmbH - ECPv6.15.20//NONSGML v1.0//EN
CALSCALE:GREGORIAN
METHOD:PUBLISH
X-ORIGINAL-URL:https://oefdv.avoe.at
X-WR-CALDESC:Veranstaltungen für ÖFdV GmbH
REFRESH-INTERVAL;VALUE=DURATION:PT1H
X-Robots-Tag:noindex
X-PUBLISHED-TTL:PT1H
BEGIN:VTIMEZONE
TZID:Europe/Vienna
BEGIN:DAYLIGHT
TZOFFSETFROM:+0100
TZOFFSETTO:+0200
TZNAME:CEST
DTSTART:20240331T010000
END:DAYLIGHT
BEGIN:STANDARD
TZOFFSETFROM:+0200
TZOFFSETTO:+0100
TZNAME:CET
DTSTART:20241027T010000
END:STANDARD
BEGIN:DAYLIGHT
TZOFFSETFROM:+0100
TZOFFSETTO:+0200
TZNAME:CEST
DTSTART:20250330T010000
END:DAYLIGHT
BEGIN:STANDARD
TZOFFSETFROM:+0200
TZOFFSETTO:+0100
TZNAME:CET
DTSTART:20251026T010000
END:STANDARD
BEGIN:DAYLIGHT
TZOFFSETFROM:+0100
TZOFFSETTO:+0200
TZNAME:CEST
DTSTART:20260329T010000
END:DAYLIGHT
BEGIN:STANDARD
TZOFFSETFROM:+0200
TZOFFSETTO:+0100
TZNAME:CET
DTSTART:20261025T010000
END:STANDARD
END:VTIMEZONE
BEGIN:VEVENT
DTSTART;TZID=Europe/Vienna:20250523T090000
DTEND;TZID=Europe/Vienna:20250523T170000
DTSTAMP:20260422T111838
CREATED:20250122T193933Z
LAST-MODIFIED:20250514T070752Z
UID:10000099-1747990800-1748019600@oefdv.avoe.at
SUMMARY:Einführung Künstliche Intelligenz und Anwendungen in der (Personen-)Versicherung
DESCRIPTION:Vortragende: Dr. Johannes Schupp\, Dr. Lucas Reck (IFA Ulm) \nOrt: Hotel Regina \nArt der Veranstaltung: Präsenzseminar \nPreis: 510 Euro (inkl. Ust.)\, AVÖ-Mitglieder 460 Euro (inkl. Ust.) \nCDP-Punkte: 6 \n  \nInhalte: \n\nÜberblick über innovative Methoden der Datenanalyse\nAllgemeine Grundlagen und Vorgehensweisen in der modernen Datenanalyse\nModellfokus: Klassifikationsbäume und moderne baumbasierte Verfahren\nModellfokus: Neuronale Netze\nÜberblick über weitere Verfahren\, z.B. regularisierte verallgemeinerte lineare Modelle\nMöglichkeiten und Grenzen der Nutzung von Generative AI\nFallbeispiele aus der Personenversicherung\n\n\nÜber die Vortragenden: \nDr. Johannes Schupp\nInstitut für Finanz- und Aktuarwissenschaften\, Ulm \nDr. Johannes Schupp ist Senior Consultant am Institut für Finanz- und Aktuarwissenschaften (ifa)\, einer aktuariellen Unternehmensberatung mit Sitz in Ulm. Hauptschwerpunkt seiner Beratungstätigkeit ist die Anwendung moderner Data-Analytics-Methoden für verschiedene Fragestellungen in der Versicherungswirtschaft. Zu seinen Projekttätigkeiten zählen Anwendungen in allen Sparten\, u.a. bei der Modellierung von Versicherungsnehmerverhalten in Komposit\, bei der Vorhersage des Einreichungs- und Leistungsverhaltens zur Optimierung von Regulierungsprozessen in der privaten Krankenversicherung oder im Rahmen der Risikomodellierung in der Kraftfahrtversicherung. Ein weiterer Schwerpunkt seiner Beratertätigkeit beim ifa ab 2014 ist die Modellierung und Entwicklung innovativer Lebensversicherungsprodukte.\nNeben seiner Beratertätigkeit ist Johannes Schupp aktiv wissenschaftlich tätig. Im März 2020 schloss er seine Promotion am Institut für Versicherungswissenschaften an der Universität Ulm zum Thema „Trendprozesse in Sterblichkeitsmodellen und Management des Langlebigkeitsrisikos“ ab und ist in diesem Themenfeld Autor mehrerer Fachpublikationen. Darüber hinaus ist Herr Schupp seit 2018 Dozent verschiedener Kurse der Akademie für Wissenschaft\, Wirtschaft und Technik an der Universität Ulm e.V. und er ist Mitglied der Deutschen Aktuarvereinigung (DAV). Herr Schupp ist Certified Actuarial Data Scientist (CADS) und Vorsitzender der Prüfungskommission der DAV im Fach Actuarial Data Science Completion. \nDr. Lucas Reck\nInstitut für Finanz- und Aktuarwissenschaften\, Ulm \nDr. Lucas Reck ist Consultant am Institut für Finanz- und Aktuarwissenschaften (ifa). Hauptschwerpunkt seiner Beratungstätigkeit ist die Prozessautomatisierung sowie die Anwendung moderner KI-Verfahren für verschiedene Fragestellungen in der Versicherungswirtschaft. Neben seiner Beratertätigkeit ist Lucas Reck aktiv wissenschaftlich tätig. Im Jahr 2024 schloss er seine Promotion an der Universität Ulm zur Anwendung innovativer Machine-Learning-Methoden zur Analyse des Kundenverhaltens in der Lebensversicherung ab und ist in diesem Themenfeld Autor mehrerer Fachpublikationen. Darüber hinaus ist Lucas Reck Aktuar (DAV) und seit 2025 Mitglieder der DAV-Arbeitsgruppe „Einsatz von GenAI im Aktuariat“.
URL:https://oefdv.avoe.at/event/einfuehrung-ki/
LOCATION:Hotel Regina\, Rooseveltplatz 15\, Wien\, 1090\, Österreich
ORGANIZER;CN="%C3%96FdV GmbH":MAILTO:sekretariat@oefdv-gmbh.at
END:VEVENT
END:VCALENDAR