BEGIN:VCALENDAR
VERSION:2.0
PRODID:-//ÖFdV GmbH - ECPv6.15.20//NONSGML v1.0//EN
CALSCALE:GREGORIAN
METHOD:PUBLISH
X-ORIGINAL-URL:https://oefdv.avoe.at
X-WR-CALDESC:Veranstaltungen für ÖFdV GmbH
REFRESH-INTERVAL;VALUE=DURATION:PT1H
X-Robots-Tag:noindex
X-PUBLISHED-TTL:PT1H
BEGIN:VTIMEZONE
TZID:Europe/Vienna
BEGIN:DAYLIGHT
TZOFFSETFROM:+0100
TZOFFSETTO:+0200
TZNAME:CEST
DTSTART:20240331T010000
END:DAYLIGHT
BEGIN:STANDARD
TZOFFSETFROM:+0200
TZOFFSETTO:+0100
TZNAME:CET
DTSTART:20241027T010000
END:STANDARD
BEGIN:DAYLIGHT
TZOFFSETFROM:+0100
TZOFFSETTO:+0200
TZNAME:CEST
DTSTART:20250330T010000
END:DAYLIGHT
BEGIN:STANDARD
TZOFFSETFROM:+0200
TZOFFSETTO:+0100
TZNAME:CET
DTSTART:20251026T010000
END:STANDARD
BEGIN:DAYLIGHT
TZOFFSETFROM:+0100
TZOFFSETTO:+0200
TZNAME:CEST
DTSTART:20260329T010000
END:DAYLIGHT
BEGIN:STANDARD
TZOFFSETFROM:+0200
TZOFFSETTO:+0100
TZNAME:CET
DTSTART:20261025T010000
END:STANDARD
END:VTIMEZONE
BEGIN:VEVENT
DTSTART;TZID=Europe/Vienna:20250613T090000
DTEND;TZID=Europe/Vienna:20250613T170000
DTSTAMP:20260421T215203
CREATED:20250122T194008Z
LAST-MODIFIED:20250522T132334Z
UID:10000100-1749805200-1749834000@oefdv.avoe.at
SUMMARY:Pensionsversicherung und Pflege
DESCRIPTION:Vortragende: Prof. Johann Stefanits \nOrt: Mezzanin – Zeitgeist Vienna \nArt der Veranstaltung: Präsenzseminar \nPreis: 510 Euro (inkl. Ust.)\, AVÖ-Mitglieder 460 Euro (inkl. Ust.) \nCDP-Punkte: 6 \nIDD-Einheiten: 6 \nInhalte: \n1)Die Pflegevorsorge in Österreich:\n\nAm Anfang: Hilflosenzuschuss in der Pension\nEntwicklung und Übergang zum Siebenstufigen Pflegegeldmodell\nFinanzierungsaspekte des Pflegegeldes (Steuer versus Beiträge)\nEinführung der 24-Stundenpflege zu Hause als Alternative zur Heimpflege\nPflege in Heimen\nAktuelle Problemlagen\n\n2) Internationale Aspekte der Sozialversicherung:\n\nSozialleistungen Österreichs im internationalen Vergleich (Eurostat\, OECD)\nWer sind die Internationalen Key – Player : EU\, OECD\, UNO\, IWF\, ..\nWo und Warum gibt es Eingriffsmöglichkeiten ins nationale Recht\nBeispiel: Zwischenstaatliche Pensionsberechnung auf Basis der EU Verordnung 883/2004\nEingriffe durch Gerichte\, zB EUGH\nReformvorschläge der EU zum Thema Pensionen auf Basis bestimmter Prozesse (zB Defizitverfahren\, Europäisches Semester)\nBerichte und Studien der EU zum Thema Best – Practice Verfahren samt Reformvorschlägen\nAktuelle Fragen : Mittelfristige und Langfristige Finanzierung (Ageing Report)\nAngemessenheit der Renten\, Armut im Alter (Adequacy Report\, EU Silc)\n\n3) Pensionen in Österreich:\n\nZugang in die Pension: Erwerb von Versicherungs- / Beitragszeiten\nZugang in die Pension: Zugangsvoraussetzungen\nPensionsberechnung im Pensionskonto\nLebensstandardsicherung versus Pensionslücke: Pensionskontodaten\nWahlmöglichkeiten beim Pensionsantritt\nPensionserhöhende Maßnahmen : Höherversicherung\, Pensionssplitting\nFinanzierung im Umlageverfahren: Beiträge und Steuern\nProblemlage: Mittelfristige Finanzierung versus Budgetnotwendigkeiten\nAnalyse der Reformvorschläge der Bundesregierung\nSchnittstellen Arbeitsmarkt / Pension bzw. Gesundheit / Pension\nLangfristige Finanzierung der Pensionen: Nachhaltigkeitsmechanismus Alt und Neu\n\nSonstiges\n\n\n\nÜber den Vortragenden: \nProf. Johann Stefanits \n\nGeboren – 24.01.1958\nSchulbildung – Gymnasium Eisenstadt\, Matura 1976\n1976 – 1980 Studium der Betriebs- und Wirtschaftsinformatik\, Uni Wien\n1980 – 1982 Post Graduate Ausbildung am IHS (Abteilung – Mathematische Methoden und Computerverfahren)\n1982 Eintritt Sozialministerium – Sektion II  / Sozialversicherung\n1985 Referatsleiter\n1989 Abteilungsleiter\n2009 Gruppenleiter\, Finanzielle Angelegenheiten der Sozialversicherung\, Grundsatzfragen\n2010 Verleihung des Berufstitels „Professor“\nStellvertretender Sektionsleiter\nSeit 1.2.2023 im Ruhestand\nLektor an der TU Wien – Sozialversicherungsrecht\n\n\nDie AVÖ-Generalversammlung findet  am 12.6. statt.
URL:https://oefdv.avoe.at/event/pensionsversicherung-2025/
LOCATION:Mezzanin – Zeitgeist Vienna\, Sonnwendgasse 15\, Wien\, Wien\, 1100\, Austria
ORGANIZER;CN="%C3%96FdV GmbH":MAILTO:sekretariat@oefdv-gmbh.at
END:VEVENT
END:VCALENDAR