BEGIN:VCALENDAR
VERSION:2.0
PRODID:-//ÖFdV GmbH - ECPv6.15.20//NONSGML v1.0//EN
CALSCALE:GREGORIAN
METHOD:PUBLISH
X-ORIGINAL-URL:https://oefdv.avoe.at
X-WR-CALDESC:Veranstaltungen für ÖFdV GmbH
REFRESH-INTERVAL;VALUE=DURATION:PT1H
X-Robots-Tag:noindex
X-PUBLISHED-TTL:PT1H
BEGIN:VTIMEZONE
TZID:Europe/Vienna
BEGIN:DAYLIGHT
TZOFFSETFROM:+0100
TZOFFSETTO:+0200
TZNAME:CEST
DTSTART:20240331T010000
END:DAYLIGHT
BEGIN:STANDARD
TZOFFSETFROM:+0200
TZOFFSETTO:+0100
TZNAME:CET
DTSTART:20241027T010000
END:STANDARD
BEGIN:DAYLIGHT
TZOFFSETFROM:+0100
TZOFFSETTO:+0200
TZNAME:CEST
DTSTART:20250330T010000
END:DAYLIGHT
BEGIN:STANDARD
TZOFFSETFROM:+0200
TZOFFSETTO:+0100
TZNAME:CET
DTSTART:20251026T010000
END:STANDARD
BEGIN:DAYLIGHT
TZOFFSETFROM:+0100
TZOFFSETTO:+0200
TZNAME:CEST
DTSTART:20260329T010000
END:DAYLIGHT
BEGIN:STANDARD
TZOFFSETFROM:+0200
TZOFFSETTO:+0100
TZNAME:CET
DTSTART:20261025T010000
END:STANDARD
END:VTIMEZONE
BEGIN:VEVENT
DTSTART;TZID=Europe/Vienna:20251111T090000
DTEND;TZID=Europe/Vienna:20251111T170000
DTSTAMP:20260421T143830
CREATED:20250122T194008Z
LAST-MODIFIED:20250926T095928Z
UID:10000102-1762851600-1762880400@oefdv.avoe.at
SUMMARY:(Einführung)IFRS 17 / 9 \, UGB
DESCRIPTION:Vortragende: Ulrike Ebner\, Gerhard Koch\, Martin Buchleitner\, DI Silvio Dorrighi\, Dr. Johann Kronthaler \nOrt: Hotel Regina\nArt der Veranstaltung: Präsenzseminar\nPreis: 510 Euro (inkl. Ust.)\, AVÖ-Mitglieder 460 Euro (inkl. Ust.) \nSeit mittlerweile drei Jahren sind die internationalen Rechnungslegungsstandards IFRS 17 und IFRS 9 in Kraft.Diese stellen einen fundamentalen Wandel gegenüber den bisherigen Regelwerken dar – sowohl inhaltlich als auch in ihrer Komplexität. \nMit diesem Überblick möchten wir insbesondere Einsteiger:innen eine erste Orientierung bieten. Ziel ist es\, die grundlegenden Prinzipien nachvollziehbar zu machen und ein besseres Verständnis für die zentralen Neuerungen und Herausforderungen dieser Standards zu schaffen sowie erste Erfahrungen aus der Praxis zu teilen. \nZielgruppe: Das Seminar richtet sich nicht ausschließlich an Aktuar:innen sondern auch an Mitarbeiter:innen aus Rechnungswesen\, Controlling\, Risikomanagement\, Kapitalveranlagung\, etc. \nInhalte: \nVormittag: Versicherungstechnik \n\nGrundlagen der Contractual Service Margin (CSM)\nNon-Life\nKPIs\n\nNachmittag: Bilanzielle Auswirkungen und Aktivseite \n\nÜberblick über die Grundlagen des IFRS9\nFunktionsweise der GuV\nAktueller Marktüberblick\n\nCDP-Punkte: 6    IDD-Einheiten: 6 \n\nÜber die Vortragenden: \nMartin Buchleitner \n\nSeit 2023 Mitarbeiter Group Investment Accounting\, UNIQA Insurance Group AG Expert Lead IFRS 9\n2018 bis 2023 Leitung IFRS 9 Projekt\, UNIQA Insurance Group AG\n2015 bis 2018 Mitarbeiter KPMG Austria im Financial Services Advisory\nu.a. div. Einführungsprojekte IFRS 9 bei Banken- und Versicherungsgesellschaften\n2015 Mitarbeiter Audit TPA Horwath Österreich\n2015 Abschluss Masterstudium Finanzwirtschaft und Rechnungswesen an der WU Wien\n\nUlrike Ebner \nAnerkannte Aktuarin \n\nseit 2018            Leitung Versicherungsmathematische Funktion Personenversicherung Wiener Städtische\n2011 bis 2017    Leitung Risikomanagement Sparkassen Versicherung AG VIG\n1995 bis 2011    Leitung (ab 2001) Bilanzmathematik/Rückversicherung Sparkassen Versicherung AG VIG\nseit 2020            Stellvertretende Präsidentin AVÖ\nseit 2019            Mitglied im Verein des österreichischen Rechnungslegungskomitees (AFRAC)\nseit 2019            Mitglied der Geschäftsführung arithmetica\nseit 2017            Mitglied des Vorstands AVÖ\nseit 2015            Leitung Arbeitskreis Accounting\, Solvency II und Riskmanagement AVÖ\nseit 2007            Anerkannte Aktuarin Aktuarvereinigung Österreichs (AVÖ)\n1992                   Abschluss Kurzstudium der Versicherungsmathematik an der TU Wien\n\nSilvio Dorrighi ist Non-Life Actuarial Teamleiter bei UNIQA im Group Actuarial Department\, wo er unter anderem die Reservesetzung der Sachversicherung in der Gruppe unter Solvency 2 und IFRS verantwortet. Zudem ist er die Stellvertretung der Actuarial Function für die Gruppe und die österreichischen Einheiten. Er bringt Berufserfahrung in der IT sowie seit über 10 Jahren in der Versicherung mit. Er hat an der TU Wien Technische Mathematik studiert\, ist anerkannter Aktuar und hat 2020 die Zusatzausbildung zum Certified Enterprise Risk Actuary abgeschlossen. \nGerhard Koch \n\nSeit 2024 Mitarbeiter Finanz- und Rechnungswesen Wiener Städtische Versicherung\n2018 – 2024 Mitarbeiter Versicherungsmathematische Funktion Personenversicherung Wiener Städtische Versicherung AG\n2016 – 2018 Mitarbeiter Risikomanagement Sparkassen Versicherung AG\n2011 – 2015 Mitarbeiter Head Office Treasury Raiffeisenbank International AG\nMasterstudium Finanzwirtschaft- und Rechnungswesen
URL:https://oefdv.avoe.at/event/ifrs17-9/
LOCATION:Hotel Regina\, Rooseveltplatz 15\, Wien\, 1090\, Österreich
ORGANIZER;CN="%C3%96FdV GmbH":MAILTO:sekretariat@oefdv-gmbh.at
END:VEVENT
END:VCALENDAR