BEGIN:VCALENDAR
VERSION:2.0
PRODID:-//ÖFdV GmbH - ECPv6.15.20//NONSGML v1.0//EN
CALSCALE:GREGORIAN
METHOD:PUBLISH
X-ORIGINAL-URL:https://oefdv.avoe.at
X-WR-CALDESC:Veranstaltungen für ÖFdV GmbH
REFRESH-INTERVAL;VALUE=DURATION:PT1H
X-Robots-Tag:noindex
X-PUBLISHED-TTL:PT1H
BEGIN:VTIMEZONE
TZID:Europe/Vienna
BEGIN:DAYLIGHT
TZOFFSETFROM:+0100
TZOFFSETTO:+0200
TZNAME:CEST
DTSTART:20230326T010000
END:DAYLIGHT
BEGIN:STANDARD
TZOFFSETFROM:+0200
TZOFFSETTO:+0100
TZNAME:CET
DTSTART:20231029T010000
END:STANDARD
BEGIN:DAYLIGHT
TZOFFSETFROM:+0100
TZOFFSETTO:+0200
TZNAME:CEST
DTSTART:20240331T010000
END:DAYLIGHT
BEGIN:STANDARD
TZOFFSETFROM:+0200
TZOFFSETTO:+0100
TZNAME:CET
DTSTART:20241027T010000
END:STANDARD
BEGIN:DAYLIGHT
TZOFFSETFROM:+0100
TZOFFSETTO:+0200
TZNAME:CEST
DTSTART:20250330T010000
END:DAYLIGHT
BEGIN:STANDARD
TZOFFSETFROM:+0200
TZOFFSETTO:+0100
TZNAME:CET
DTSTART:20251026T010000
END:STANDARD
END:VTIMEZONE
BEGIN:VEVENT
DTSTART;TZID=Europe/Vienna:20240605T100000
DTEND;TZID=Europe/Vienna:20240605T180000
DTSTAMP:20260424T043827
CREATED:20230904T204447Z
LAST-MODIFIED:20240604T073546Z
UID:10000088-1717581600-1717610400@oefdv.avoe.at
SUMMARY:Präsentieren und Kommunizieren für Aktuare
DESCRIPTION:Vortragende: DI René Knapp\, DI Heinrich Plametzberger\, Marie-Christin Höfler MBA\, BA \nOrt: Consolmo Seminarräume Stephansplatz \nArt der Veranstaltung: Präsenzseminar \nThema und Inhalt:\n10:00 – 11:00 DI René Knapp – Einleitung (ca 1 h) \n\n\n\nRelevanz von Kommunikation\nAus Sicht Von Aktuar:innen : Anforderungen an Ausbildung & Funktion\, in der Praxis was ist gute Kommunikation\nAus Sicht des Vorstands: Anforderungen aus Vorstandssicht\, Relevanz von Soft Skills/Social Skills\nGrundprinzipien: versch. Perspektiven\, gemeinsames Verständnis\n\n\n\n\n11:00 – 12:00 DI Heinrich Plametzberger  – Storytelling  (ca 1 h) \n\n\n\n\nverschiedene Rollen des Aktuars und die Herausforderungen in der Kommunikation\nKommunikation mit dem Vertrieb\n„angemessene und rechtzeitige“ Kommunikation\nBeispiele\n\n\n\n\n12:00 – 13:30 Mittagspause \nMITTAGESSEN IST NICHT INKLUDIERT UND WIRD NICHT BEREIT GESTELLT\n\n13:30 – 18:00 Marie-Christin Höfler MBA\, BA – Präsentationstechniken (ca 4 h) \n\n\n\nPersönliche Präsentationsskills\, Auftreten\, Körpersprache\nAufbereitung von Inhalten (Powerpoint)\nKommunikation\n\n\n\n  \nPreis: 470 Euro (inkl. Ust.)\, AVÖ-Mitglieder 420 Euro (inkl. Ust.) \nCDP-Punkte: 6 \n\nÜber die Vortragenden: \nRené Knapp \nRené Knapp ist seit Jänner 2020 im Vorstand für die Bereiche Human Resources\, Marke und Nachhaltigkeit verantwortlich. Der studierte Mathematiker (TU Wien) und anerkannte Aktuar (AVÖ) startete bei UNIQA im Jahr 2007 und übernahm 2010 den Bereich Lebensversicherung Mathematik. Ab 2012 leitete er den Bereich Group Actuarial\, der ab 2015 mit dem Risk Management und später mit dem Security Management erweitert wurde. Neben seiner Tätigkeit für UNIQA setzt sich René nicht nur für den Berufstand der Aktuare ein\, sondern nahm immer wieder Gastprofessuren und Vortragstätigkeiten an der Universität Salzburg wahr. \n  \nHeinrich Plametzerger \nSeit 04.2012 Abteilungsleiter Aktuariat / PM Leben Helvetia \nProkurist (seit 2014) \n06.2011 – 04.2012 Teamleiter Risk Management – Liabilites VIG \n04.2010 – 06.2011 Risk Manager VIG \n01.2006 – 04.2010 Bilanzmathematiker S-Versicherung \nAUSBILDUNG \n10.2005 Abschluss des Studiums Technische Mathematik (TU Wien) \n07.2017 Weiterbildungsdiplom Insurance Management (Hochschule St. Gallen) \nSonstiges \n· Mitglied in der Sektion der Anerkannten Aktuare (AVÖ) \n  \nMarie-Christin Höfler \nMarie-Christin Höfler ist Trainerin\, Coach und Vortragende. Sie ist Geschäftsführerin der Legend GmbH (Unternehmensberatung) und Gründerin von TOPinHEELS – Vienna’s first High Heels Academy. Seit über 20 Jahren steht sie auf der Bühne. Nach ihrer Karriere als Profi-Tänzerin hat sie ihr Weg von der Kunst in die Wirtschaft geführt. Sie hat Marketing & Sales sowie Wirtschaftspsychologie studiert und ist als Vortragende und Trainerin zu den Themen Kommunikation\, High Performance und Motivation tätig.
URL:https://oefdv.avoe.at/event/soft-skills-2/
LOCATION:Consolmo Stephansplatz\, Brandstätte 1\, Wien\, 1010
ORGANIZER;CN="%C3%96FdV GmbH":MAILTO:sekretariat@oefdv-gmbh.at
END:VEVENT
BEGIN:VEVENT
DTSTART;TZID=Europe/Vienna:20240620T090000
DTEND;TZID=Europe/Vienna:20240620T170000
DTSTAMP:20260424T043827
CREATED:20240124T115952Z
LAST-MODIFIED:20240529T093757Z
UID:10000086-1718874000-1718902800@oefdv.avoe.at
SUMMARY:Makroökonomie für Aktuare
DESCRIPTION:Vortragende: Univ.-Prof. Dipl.-Ing. Dr. techn. Gerhard Sorger \nInhalt des Seminars \n\nEinführung\n\nMakroökonomie im Überblick\nWichtige makroökonomische Kennzahlen\n\n\nKurz- und mittelfristige Analyse (Konjunktur)\n\nDie Nachfrageseite\nDie Angebotsseite\nGeldpolitik\nDas 3-Gleichungen-Modell\n\n\nLangfristige Analyse (Wirtschaftswachstum)\n\nOrt der Veranstaltung: Hotel Regina \nArt der Veranstaltung: Präsenzseminar \nZielgruppe: Aktuar:innen\, Risikomanager:innen\, Investmentmanager:innen\, Controller:innen\, Rechnungswesen \nPreis: 510 Euro (inkl. Ust.)\, AVÖ-Mitglieder 460 Euro (inkl. Ust.) \nCDP-Punkte: 6 \n\n  \nÜber die Vortragenden: \nUniv.-Prof. Dipl.-Ing. Dr. techn. Gerhard Sorger wurde 1961 in Hamburg (D) geboren und wuchs in Villach (Ö) auf\, wo er auch die Reifeprüfung ablegte. 1979 begann er die Studien der Technischen Mathematik und der Informatik an der TU Wien\, die er 1983 bzw. 1984 jeweils mit ausgezeichnetem Erfolg abschloss. Im Jahr 1986 schloss er auch das Doktoratsstudium der Technischen Mathematik an der TU Wien ab und promovierte unter den Auspizien des Bundespräsidenten. Zwischen 1985 und 1991 war er als Forschungsassistent an der TU Wien bzw. als PostDoc Researcher an der University of Toronto tätig. Außerdem leistete er in dieser Zeit den Zivildienst ab. Von 1991 bis 1999 war er zunächst als Universitätsassistent und später als Universitätsdozent am Institut für Volkswirtschaftslehre der Universität Wien angestellt. Ein einjähriger Aufenthalt als Gastprofessor bzw. Gastforscher (McGill University und CIRANO in Montreal\, Kanada) fand auch in dieser Zeit statt. 1999 wurde Gerhard Sorger als Universitätsprofessor für Volkswirtschaftslehre an die Queen Mary University of London berufen\, wo er bis 2003 forschte und lehrte. Danach folgte er dem Ruf auf eine Professur für Volkswirtschaftslehre an der Universität Wien\, die er bis heute innehat.\nGerhard Sorger beschäftigt sich in seiner Forschung vorwiegend mit der Lösung und den Strukturen mathematischer Modelle\, die in der Makroökonomie sowie der Ressourcenökonomie verwendet werden. Er hat rund 100 Artikel in internationalen referierten Fachzeitschriften sowie vier wissenschaftliche Bücher veröffentlicht. Er unterrichtet vorwiegend Makroökonomie\, Entscheidungstheorie\, und Mathematische Methoden der Volkswirtschaftslehre. In den Jahren 2010-2012 und 2020-2022 fungierte er als Dekan der Fakultät für Wirtschaftswissenschaften der Universität Wien. Seit 2019 ist er Mitglied des Forschungs- und Wissenschaftsrates des Landes Kärnten. \n  \n 
URL:https://oefdv.avoe.at/event/makrooekonomie-fuer-aktuare-2/
LOCATION:Hotel Regina\, Rooseveltplatz 15\, Wien\, 1090\, Österreich
ORGANIZER;CN="%C3%96FdV GmbH":MAILTO:sekretariat@oefdv-gmbh.at
END:VEVENT
END:VCALENDAR