BEGIN:VCALENDAR
VERSION:2.0
PRODID:-//ÖFdV GmbH - ECPv6.15.20//NONSGML v1.0//EN
CALSCALE:GREGORIAN
METHOD:PUBLISH
X-ORIGINAL-URL:https://oefdv.avoe.at
X-WR-CALDESC:Veranstaltungen für ÖFdV GmbH
REFRESH-INTERVAL;VALUE=DURATION:PT1H
X-Robots-Tag:noindex
X-PUBLISHED-TTL:PT1H
BEGIN:VTIMEZONE
TZID:Europe/Vienna
BEGIN:DAYLIGHT
TZOFFSETFROM:+0100
TZOFFSETTO:+0200
TZNAME:CEST
DTSTART:20230326T010000
END:DAYLIGHT
BEGIN:STANDARD
TZOFFSETFROM:+0200
TZOFFSETTO:+0100
TZNAME:CET
DTSTART:20231029T010000
END:STANDARD
BEGIN:DAYLIGHT
TZOFFSETFROM:+0100
TZOFFSETTO:+0200
TZNAME:CEST
DTSTART:20240331T010000
END:DAYLIGHT
BEGIN:STANDARD
TZOFFSETFROM:+0200
TZOFFSETTO:+0100
TZNAME:CET
DTSTART:20241027T010000
END:STANDARD
BEGIN:DAYLIGHT
TZOFFSETFROM:+0100
TZOFFSETTO:+0200
TZNAME:CEST
DTSTART:20250330T010000
END:DAYLIGHT
BEGIN:STANDARD
TZOFFSETFROM:+0200
TZOFFSETTO:+0100
TZNAME:CET
DTSTART:20251026T010000
END:STANDARD
END:VTIMEZONE
BEGIN:VEVENT
DTSTART;TZID=Europe/Vienna:20241007T130000
DTEND;TZID=Europe/Vienna:20241007T173000
DTSTAMP:20260423T234825
CREATED:20240906T100536Z
LAST-MODIFIED:20241003T142300Z
UID:10000095-1728306000-1728322200@oefdv.avoe.at
SUMMARY:Bewertung von Sozialkapital 2024
DESCRIPTION:Vortragende: DI Sven Jörgen (Valida)\, Dr. Friedemann Lucius (Heubeck)\, DI Hans-Peter Plaichner (VALOG)\, DI Bernhard Ujvari (Valida) \nOrt: Hotel Regina\, Rooseveltplatz 15\,1090\, Wien\, optional auch Teilnahme über MS Teams möglich \nDas gemeinsame Mittagessen im Seminarhotel ab 12:00 ist im Preis inkludiert! \nInhalt des Seminars: \n\nBasics in der Bewertung von Sozialkpital (13:00 – 14:30)\, Sven Jörgen\nAktuelle Themen in Österreich\, v.a. Steigerungsannahmen (14:30-14:45)\, Sven Jörgen\nAktuelle Themen zu Sozialkapital in Deutschland (15:15-16:00)\, Friedemann Lucius\n\nPensionsverpflichtungen im Jahresabschluss: Zins & Inflation (Deutschland)\nAktuelle Entwicklungen: anstehende Gesetzesreformen in der 2. Säule & reine Beitragszusage\n\n\nVorstellung einzelner Tools zur Bewertung von Sozialkapital (16:00-17:30)\n\nActuarial Factory (Hans-Peter Plaichner\, Bernhard Ujvari)\n… (kurze Beiträge aller Teilnehmer bzw. aller Gutachter erbeten!) (Beiträge aller Teilnehmer\, Diskussion)\n\n\n\n  \nAusklang im Anschluss bei einem Glas Wein\, um den Austausch unter den Gutachtern weiter zu fördern und Netzwerken zu ermöglichen… \n  \nIm letzten Teil des Seminars sollen in der Praxis verwendete Tools und Programme betrachtet werden\, die von den Gutachtern benutzt werden. Dies umfasst einerseits fertige Komplettpakete\, die lizenziert werden können\, aber auch Berichte oder eine kurze Darstellung/Präsentation/Screenshorts der Teilnehmer\, welche Tools sie benutzen. Ziel ist es\, den Aktuar:innen zu zeigen\, dass es einerseits fertige Programme gibt\, aber viele Gutachter mit selbst programmierten Tools — meist Excel-Sheets\, die für die Barwerte auf den Referenzrechnern der Pensionstafel basieren\, und dann die Verteilung/Finanzierung über Cashflows ergänzen und das Gesamtportfolio über Macros automatisieren — ebenso ans Ziel kommen.  Daher möchten wir alle Aktuare – auch jenen\, die am Seminar nicht teilnehmen können – einladen\, ihre Tools für die Bewertung von Sozialkapital kurz darzustellen (Screenshots\, Beschreibung in ein paar Sätzen\, kurze Live-Präsentation). Bitte um kurze Vorab-Info per Mail an office@oefdv.at. \nZiel ist es nicht\, eine Werbeveranstaltung für einzelne Programme zu machen\, sondern vielmehr allen einen kurzen Einblick zu geben\, wie andere Aktuare ihre Bewertungen durchführen und zu zeigen\, dass alle für die Bewertung nur mit Wasser kochen. Daher braucht hier niemand Scheu zu haben\, einen Screenshot eines einfachen Excel-Sheets zu zeigen oder darzustellen\, dass die Bewertung z.B. über ein selbst geschriebenes Python-Script läuft\, dessen Output dann manuell aufbereitet wird. Eine kurze Live-Präsentation oder Demonstration ist natürlich am eindrucksvollsten\, ein paar Screenshots oder eine einfache Beschreibung der technischen Vorgehensweise ist allerdings ebenso hilfreich. \n  \nArt der Veranstaltung: Präsenzseminar\, bei Bedarf ist die Online-Teilnahme über MS Teams möglich \nZielgruppe: Die Veranstaltung richtet sich an sämtliche Aktuar:innen\, die im Bereich der Personalrückstellungen tätig sind oder daran Interesse haben. Neben aktuellen Themen\, sollen einerseits Grundlagen für Neueinsteiger:innen dargelegt werden\, andererseits aber auch vertiefende bzw. weiterführende Themen für “alte Hasen” behandelt werden. \nPreis: 440 Euro (inkl. Ust.)\, AVÖ-Mitglieder 390 Euro (inkl. Ust.) \nCDP-Punkte: 4 \n\nÜber die Vortragenden: \nDI Sven Jörgen ist seit 1994/95 für Valida Consulting GesmbH tätig. Arbeitsschwerpunkte: Aktuarische Betreuung betrieblicher Pensionskassen\, berufsständischer Vorsorgeeinrichtungen und einer Vielzahl von Unternehmen in Österreich. Erstellung versicherungsmathematischer Gutachten/Bewertungen von Personalrückstellungen. Entwicklung und Neugestaltung von Vorsorgemodellen. Diverse Vorträge\, Seminare und Vorlesungen zum Thema Versicherungsmathematik\, nationale und internationale Bewertungsvorschriften (UGB/AFRAC 27\, EStG\, IFRS/IAS 19) und statistische Grundlagen für Risikomanagement. Jörgen studierte technische Mathematik (Versicherungsmathematik) an der TU Wien\, ist anerkannter Aktuar AVÖ\, Leiter AVÖ Arbeitskreis Sozialkapital und war lange Zeit Gastprofessor an der Universität Salzburg (Vorlesung Pensionsversicherungsmathematik). \nDr. Friedemann Lucius ist seit 2013 in leitender Position für die HEUBECK AG tätig\, bis 2023 als Mitglied des Vorstands\, seitdem als Chefaktuar. Davor war er als beratender Aktuar insgesamt fast zehn Jahre in verschiedenen Funktionen für die Wirtschaftsprüfungsgesellschaft pwc sowie mehr als fünf Jahre für das Beratungsunternehmen Aon tätig. Sein Tätigkeitsschwerpunkt liegt in der Beratung von Unternehmen in steuerlichen\, bilanziellen und betriebswirtschaftlichen Fragestellungen der betrieblichen Altersversorgung sowie Finanzierung von Versorgungssystemen. Er verfügt über eine langjährige Erfahrung als Verantwortlicher Aktuar für betriebliche und überbetriebliche Versorgungseinrichtungen\, insbesondere für Zusatzversorgungskassen des öffentlichen Dienstes. \nSeit 2002 ist Dr. Friedemann Lucius Mitglied der Deutschen Aktuarvereinigung (DAV)\, seit 2005 Mitglied des Instituts der versicherungsmathematischen Sachverständigen für Altersversorgung (IVS). Im Jahr 2008 wurde er in den Vorstand des IVS gewählt. Von 2018 bis 2024 war er Vorsitzender des IVS und Mitglied des Vorstands der DAV\, seit September 2024 ist er einer der beiden stellvertretenden Vorsitzenden des IVS. Seit 2008 ist Friedemann Lucius außerdem Mitglied im DAV-Fachausschuss Altersversorgung (FAV). In der Arbeitsgruppe „Rechnungslegung“ des FAV arbeitet er bereits seit 2005 aktiv mit\, von 2015 bis 2018 als Leiter der AG. Seit 2024 ist er zudem Mitglied der Arbeitsgruppe „Reine Beitragszusage“ des FAV. Zudem ist Friedemann Lucius Mitglied der Leitung der Fachvereinigung „Mathematische Sachverständige“ bei der Arbeitsgemeinschaft für betriebliche Altersversorgung (aba) sowie Leiter der Arbeitsgruppe Pensionen beim Deutschen Rechnungslegungs Standard Committee (DRSC). \nDI Hans-Peter Plaichner ist seit dem Jahr 2000 im Bereich der betrieblichen Altersvorsorge tätig. Seit dem Jahr 2020 ist er Chefaktuar bei VALOG GmbH\, wo er hauptsächlich für die Erstellung versicherungsmathematischer Gutachten von Personalrückstellungen und der aktuarischen Betreuung einer berufsständischen Vorsorgeeinrichtung zuständig ist. Er studierte technische Mathematik (Zweig Versicherungsmathematik) an der TU Wien\, ist anerkannter Aktuar AVÖ und arbeitet seit 2006 beim Arbeitskreis Sozialkapital mit. \nDI Bernhard Ujvari hat technische Mathematik (Mathematik in den Naturwissenschaften) an der TU Wien studiert. Seit 2016 ist er für Valida im Bereich der Bewertung von Sozialkapital und Personalrückstellungen tätig. Zusätzlich ist er seit 2020 im Arbeitskreis Sozialkapital der AVÖ aktiv. \n 
URL:https://oefdv.avoe.at/event/bewertung-von-sozialkapital-3/
LOCATION:Hotel Regina\, Rooseveltplatz 15\, Wien\, 1090\, Österreich
ORGANIZER;CN="%C3%96FdV GmbH":MAILTO:sekretariat@oefdv-gmbh.at
END:VEVENT
BEGIN:VEVENT
DTSTART;TZID=Europe/Vienna:20241022T130000
DTEND;TZID=Europe/Vienna:20241022T173000
DTSTAMP:20260423T234825
CREATED:20240815T124124Z
LAST-MODIFIED:20240926T162309Z
UID:10000092-1729602000-1729618200@oefdv.avoe.at
SUMMARY:Der Lebenszyklus des Versicherungsvertrages – ein Streifzug durch das allgemeine Versicherungsvertragsrecht
DESCRIPTION:Inhalte \nDie Kenntnis des allgemeinen Versicherungsvertragsrechtes ist essentiell\, wenn man in der Versicherungsbranche tätig ist. Das Seminar gibt einen praxisnahen Überblick über die wesentlichen Bestimmungen samt Beispielen aus der OGH-Rechtsprechung. \nWesentliche Inhalte: \n\nVertragsabschluss\nPrämie\nRücktrittsrecht und Leistungsfreiheit\n\nVorvertragliche Aufklärungspflicht\nGefahrerhöhung\nObliegenheiten\n\n\nFälligkeit und Verjährung\nKündigung\n\nOrt der Veranstaltung: Hotel Regina \nArt der Veranstaltung: Präsenzseminar \nZielgruppe: Dieses Seminar behandelt Versicherungverträge aus allgemeiner Sicht und richtet sich sowohl an Aktuar:innen in der Lebens- und Krankenversicherung als auch in der Sachversicherung. \nPreis:  440 Euro (inkl. Ust.)\, AVÖ-Mitglieder 390 Euro (inkl. Ust.)\nCPD-Punkte: 4 \n\nÜber die Vortragende: \nDr. Nora Michtner \n\nGeboren 1985\nRechtsanwältin und Gesellschafterin bei Singer Fössl Rechtsanwälte OG in Wien\nSpezialisiert auf Versicherungsvertragsrecht und Gesellschaftsrecht\nGastlektorin an der Universität für Weiterbildung Krems und der FH Wien\nHerausgeberin und Autorin des VersVG-Online-Kommentars der Versicherungsrechtsdatenbank versdb.com\nZahlreiche Publikationen in Fachzeitschriften\, Herausgeberin des Blogs blog-versicherungsrecht.at (https://www.sfr.at/blog-versicherungsrecht/)\nViel gebuchte Vortragende im Bereich Versicherungsrecht und Gesellschafterstreit\n\n 
URL:https://oefdv.avoe.at/event/der-lebenszyklus-des-versicherungsvertrages-ein-streifzug-durch-das-allge-meine-versicherungsvertragsrecht/
LOCATION:Hotel Regina\, Rooseveltplatz 15\, Wien\, 1090\, Österreich
ORGANIZER;CN="%C3%96FdV GmbH":MAILTO:sekretariat@oefdv-gmbh.at
END:VEVENT
BEGIN:VEVENT
DTSTART;TZID=Europe/Vienna:20241028T090000
DTEND;TZID=Europe/Vienna:20241028T170000
DTSTAMP:20260423T234825
CREATED:20240124T115952Z
LAST-MODIFIED:20241024T053418Z
UID:10000090-1730106000-1730134800@oefdv.avoe.at
SUMMARY:Non-Life Modellierung - NEUER TERMIN
DESCRIPTION:Vortragende: \nMag. Christoph Krischanitz\, DI Florian Mair\, DI Alexander Meiksner \nZielgruppe des Seminars: Das Seminar richtet sich an Inhaber der VMF\, Nicht-Leben-Aktuare (Pricing\, Reserving\, Solvency)\, Risikomanager\, und alle\, die sich in das Thema einarbeiten wollen. Es ist ein Seminar von Praktikern für Praktiker. \nInhalt des Seminars:\nVormittag 9-11 (Krischanitz): Grundlagen der Modellierung\, Aktuelle Herausforderungen bei der Modellierung von Schaden- und Prämienreserven \n\nAktuarielle Modelle\, der Modellierungszyklus\nTraditionelle Schadenreservierungsmethoden\n\nExkurs: Behandlung von Inflation\n\n\nModerne Ansätze zur Schadenmodellierung\nHerausforderungen bei der Modellierung von Prämienreserven\n\nExkurs: Modellierung trendverändernder Einflüsse (zB Klimawandel)\n\n\n\nMittag 11:30-12:30 + 13:30-14:30 (Meiksner): Pricing \n\nKonzepte zur Finanzierung im Schaden/Unfallbereich\nKennziffern und Exposuremaße der Tarifmathematik\nGrundlagen der Datenaufbereitung für Tarifierungszwecke\nAuswahl und Klassifizierung der Tarifmerkmale\nModelle für Risikoprämie und Risikomarge\n\nVerallgemeinerte Lineare Modelle\nBühlmann-Straub Verfahren\nQuantil Regression\nWeitere Kalkulationsverfahren\n\n\nKostenzuordnung\nProfitabilitätsanalyse und Nachkalkulation\nTarifwartung\n\nNachmittag 15-17 (Mair): Modellierung Solvenzkapitalanforderung\, Rückversicherung und Naturkatastrophen. \n\nSolvenzkapitalanforderung im Schaden/Unfallbereich\n\nSchwachstellen Standardformel\nVorteile & Methoden interner Modellierung\n\n\nModellierung von gängigen Rückversicherungsverträgen\, Überlegungen zu Risikotransfer\, Möglichkeiten der Optimierung der Vertragsstruktur\nModellierung von Naturkatastrophen (Hochwasser\, Sturm\, Hagel\, Erdbeben)\nKlimawandelszenarien für physische Risiken\n\n  \nDetails:\nOrt der Veranstaltung: Hotel Regina \nArt der Veranstaltung: Präsenzseminar \nPreis: 510 Euro (inkl. Ust.)\, AVÖ-Mitglieder 460 Euro (inkl. Ust.) \nCDP-Punkte: 6 \n\nÜber die Vortragenden: \nMag. Christoph Krischanitz hat nach Abschluss seines Mathematikstudiums an der Uni Wien und einem zweijährigen finanzmathematischen Forschungsprojekts 1996 in der UNIQA begonnen und war dort insbesondere für den Aufbau des Schaden-/Unfallaktuariats verantwortlich. 2002 wechselte er in die aktuarielle Beratung\, zunächst siebzehn Jahre lang als Geschäftsführer bei arithmetica\, Anfang 2020 baute er dann die Österreich-Repräsentanz für Milliman auf\, seit März 2024 ist er mit seinem Beratungsunternehmen Profi-Aktuar selbständig. Christoph Krischanitz war von 2008 bis 2014 Präsident der AVÖ\, von 2011 bis 2017 leitete er das Investment and Financial Risk Committee der AAE\, seit Mitte 2023 ist er Leiter der Non-Life Working Group der AAE. Seit 2000 ist er an verschiedenen Instituten auch lehrend tätig\, an der TU Wien hält er den Non-life spezifischen Teil der Vorlesung über aktuarielle Modellierung. \nDI Florian Mair hat 2011 das Finanz- und Versicherungsmathematikstudium erfolgreich an der TU Wien absolviert. Nach Abschluss des Studiums begann er seine Berufslaufbahn in der versicherungsmathematischen Beratung (arithmetica) und wechselte im Anschluss in die Vienna Insurance Group wo er seit 2014 die Schaden/Unfall Versicherung im Risikomanagement der Gruppe verantwortet. Seit Ende 2023 ist er zudem stellvertretende Risikomanagementfunktion des Unternehmens. Er war für die erfolgreiche Implementierung des internen Modells im Unternehmen verantwortlich und hat dadurch fundierte Erfahrung mit Modellierung von Schaden/Unfall Risiken was auch Rückversicherung und Naturkatastrophen inkludiert. \nDI Alexander Meiksner hat das Diplomstudium der Mathematik in den Naturwissenschaften an der TU Wien absolviert und war anschließend Wissenschaftlicher Mitarbeiter an der FH Wiener Neustadt. Von 2012 – 2014 war er consultant im insurance-Team von arithmetica. Seit 2014 ist er principal für versicherungsmathematische Fragestellungen und Modellierung. Er hat eine Vielzahl von Versicherungsunternehmen bei der mathematischen Implementierung der Solvency II Richtlinie begleitet und Projekte wie den Aufbau von internen Modellen und die Umsetzung vieler Tarifierungsprojekte geleitet. \n 
URL:https://oefdv.avoe.at/event/non-life-modellierung/
LOCATION:Hotel Regina\, Rooseveltplatz 15\, Wien\, 1090\, Österreich
ORGANIZER;CN="%C3%96FdV GmbH":MAILTO:sekretariat@oefdv-gmbh.at
END:VEVENT
END:VCALENDAR