BEGIN:VCALENDAR
VERSION:2.0
PRODID:-//ÖFdV GmbH - ECPv6.15.20//NONSGML v1.0//EN
CALSCALE:GREGORIAN
METHOD:PUBLISH
X-ORIGINAL-URL:https://oefdv.avoe.at
X-WR-CALDESC:Veranstaltungen für ÖFdV GmbH
REFRESH-INTERVAL;VALUE=DURATION:PT1H
X-Robots-Tag:noindex
X-PUBLISHED-TTL:PT1H
BEGIN:VTIMEZONE
TZID:Europe/Vienna
BEGIN:DAYLIGHT
TZOFFSETFROM:+0100
TZOFFSETTO:+0200
TZNAME:CEST
DTSTART:20240331T010000
END:DAYLIGHT
BEGIN:STANDARD
TZOFFSETFROM:+0200
TZOFFSETTO:+0100
TZNAME:CET
DTSTART:20241027T010000
END:STANDARD
BEGIN:DAYLIGHT
TZOFFSETFROM:+0100
TZOFFSETTO:+0200
TZNAME:CEST
DTSTART:20250330T010000
END:DAYLIGHT
BEGIN:STANDARD
TZOFFSETFROM:+0200
TZOFFSETTO:+0100
TZNAME:CET
DTSTART:20251026T010000
END:STANDARD
BEGIN:DAYLIGHT
TZOFFSETFROM:+0100
TZOFFSETTO:+0200
TZNAME:CEST
DTSTART:20260329T010000
END:DAYLIGHT
BEGIN:STANDARD
TZOFFSETFROM:+0200
TZOFFSETTO:+0100
TZNAME:CET
DTSTART:20261025T010000
END:STANDARD
END:VTIMEZONE
BEGIN:VEVENT
DTSTART;TZID=Europe/Vienna:20251201T090000
DTEND;TZID=Europe/Vienna:20251201T170000
DTSTAMP:20260421T115836
CREATED:20250122T194008Z
LAST-MODIFIED:20260410T225204Z
UID:10000101-1764579600-1764608400@oefdv.avoe.at
SUMMARY:Aufsichtsrechtliche Themen
DESCRIPTION:Vortragende: Dominique Wagner-Bruschek\, Christina Ziehaus\, Christian Schiele\, Stanislava Saria\, Lauri Saraste \nOrt: Courtyard by Marriott Wien Messe – Zuschaltung via Teams möglich\nPreis: 510 Euro (inkl. Ust.)\, AVÖ-Mitglieder 460 Euro (inkl. Ust.) \nInhalte: \n\n\nAufsichtsrechtliche Neuerungen für Aktuare: FMA-Sicht (S. Saria\, 45min)\n\nSolvency 2 Review (D. Wagner-Bruschek\, 2h)\nValue for Money (C. Ziehaus\, 1h)\nRight to be Forgotten (L. Saraste\, 45min) (Vortragsteil auf Englisch)\nIRRD (C. Schiele\, 1\,5h)\n\nCDP-Punkte: 6   IDD-Einheiten: 6 \n\nÜber die Vortragenden: \nDominique Wagner-Bruschek ist Anerkannte Aktuarin der AVÖ. Nach ihrem Berufseinstieg in der FMA arbeitete sie im Risikomanagement der UNIQA Versicherung und ist seit 2013 in der KPMG im Team Finanz- und Versicherungsmathematik tatig. Ihre Tatigkeitsschwerpunkte liegen in der aktuariellen Prüfung und Beratung von Versicherungsunternehmen. \nChristian Schiele ist Stv. Abteilungsleiter des Regulatory Office der Wüstenrot Gruppe. Davor in der österreichischen Finanzmarktaufsicht (Abwicklungsbehörde) tätig\, dort Mitglied der SRB-Task Force on MREL sowie diverser Arbeitsgruppen zu Abwicklungsthemen. Davor in unterschiedlichen Funktionen im Bereich Risikomanagement und Regulatorik bei österreichischen Banken tätig. Forschungsschwerpunkte: österreichisches und europäisches Bankenaufsichtsrecht sowie Bankenabwicklung\, Fachautor und Vortragender zu diesen Themen. \nStanislava Saria leitet die Abteilung Querschnittsthemen der Aufsicht über Versicherungsunternehmen\, Pensionskassen und Finanzkonglomerate in der FMA und verantwortet die Aufsichts- und Rechtsweiterentwicklung sowie die Fokusaufsicht insb. in den Bereichen Solvency II\, Sustainable Finance\, Digitalisierung und CyberResilience. Vor ihrer Tätigkeit für die FMA war sie am Europäischen Gerichtshof in Luxemburg tätig. Ihre berufliche Laufbahn begann sie in verschiedenen Rechtsanwaltskanzleien mit dem Schwerpunkt Unternehmens- und Wirtschaftsrecht. \nLauri Saraste is a Director at LocalTapiola Group in Finland\, where he is responsible for the Group’s investment development\, sustainability\, and regulatory activities. Previously\, he led the Group’s ALM\, Group Treasury\, and the actuarial function of LocalTapiola Life. Before joining LocalTapiola\, Lauri worked as an actuary in life insurance\, pensions\, and IT beginning in 2001. He holds a master’s degree in insurance and financial mathematics from the University of Helsinki\, is a Fellow of the Actuarial Society of Finland\, and is a Certified International Investment Analyst. He currently serves as Chair of the AAE Insurance Committee\, overseeing four working groups focused on Solvency II\, Consumer Protection\, Economics & Finance\, and Non-life. \nChristina Ziehaus ist Anerkannte Aktuarin der AVÖ. Nach dem Abschluss des Doktoratsstudium in Finanzmathematik an der TU Wien arbeitete Sie in der Wirtschaftsprüfung ehe sie in die Versicherungsbranche wechselte. Nach 8 Jahren in der VIG ist sie nun seit 2021 in der Generali Versicherung AG als stellvertretende verantwortliche Aktuarin in der Lebensversicherung tätig.
URL:https://oefdv.avoe.at/event/aufsichtsrechtliches/
LOCATION:Courtyard by Marriott\, Trabrennstraße 4\, Wien\, Wien\, 1020\, Österreich
ORGANIZER;CN="%C3%96FdV GmbH":MAILTO:sekretariat@oefdv-gmbh.at
END:VEVENT
END:VCALENDAR