BEGIN:VCALENDAR
VERSION:2.0
PRODID:-//ÖFdV GmbH - ECPv6.15.20//NONSGML v1.0//EN
CALSCALE:GREGORIAN
METHOD:PUBLISH
X-ORIGINAL-URL:https://oefdv.avoe.at
X-WR-CALDESC:Veranstaltungen für ÖFdV GmbH
REFRESH-INTERVAL;VALUE=DURATION:PT1H
X-Robots-Tag:noindex
X-PUBLISHED-TTL:PT1H
BEGIN:VTIMEZONE
TZID:Europe/Vienna
BEGIN:DAYLIGHT
TZOFFSETFROM:+0100
TZOFFSETTO:+0200
TZNAME:CEST
DTSTART:20250330T010000
END:DAYLIGHT
BEGIN:STANDARD
TZOFFSETFROM:+0200
TZOFFSETTO:+0100
TZNAME:CET
DTSTART:20251026T010000
END:STANDARD
BEGIN:DAYLIGHT
TZOFFSETFROM:+0100
TZOFFSETTO:+0200
TZNAME:CEST
DTSTART:20260329T010000
END:DAYLIGHT
BEGIN:STANDARD
TZOFFSETFROM:+0200
TZOFFSETTO:+0100
TZNAME:CET
DTSTART:20261025T010000
END:STANDARD
BEGIN:DAYLIGHT
TZOFFSETFROM:+0100
TZOFFSETTO:+0200
TZNAME:CEST
DTSTART:20270328T010000
END:DAYLIGHT
BEGIN:STANDARD
TZOFFSETFROM:+0200
TZOFFSETTO:+0100
TZNAME:CET
DTSTART:20271031T010000
END:STANDARD
END:VTIMEZONE
BEGIN:VEVENT
DTSTART;VALUE=DATE:20260610
DTEND;VALUE=DATE:20260611
DTSTAMP:20260421T103946
CREATED:20260309T144203Z
LAST-MODIFIED:20260309T144203Z
UID:10000114-1781049600-1781135999@oefdv.avoe.at
SUMMARY:Die AVÖ-Generalversammlung
DESCRIPTION:Die AVÖ-Generalsversammlung findet dieses Jahr am 10.6. im Novotel beim Wiener Hauptbahnhof statt. \nDie Anmeldung erfolgt demnächst über die AVÖ-Webseite.
URL:https://oefdv.avoe.at/event/die-avoe-generalversammlung/
LOCATION:Novotel\, Canettistraße 6\, Wien\, Wien\, 1100\, Österreich
END:VEVENT
BEGIN:VEVENT
DTSTART;TZID=Europe/Vienna:20260611T090000
DTEND;TZID=Europe/Vienna:20260611T170000
DTSTAMP:20260421T103946
CREATED:20251216T172245Z
LAST-MODIFIED:20260421T083545Z
UID:10000106-1781168400-1781197200@oefdv.avoe.at
SUMMARY:Projektmanagement und laterales Führen für Aktuar:innen
DESCRIPTION:Vortragende: Mario Hörig (WTW)\, Oliver Dragoun (PMCC) \n \nOrt: TBD\nArt der Veranstaltung: Präsenzveranstaltung\nPreis: Preis: 560€ / 510€ für AVÖ-Mitglieder \nZielgruppe \nDas Seminar richtet sich an Aktuar:innen und Fachkräfte\, die in Projekten Verantwortung übernehmen oder übernehmen möchten und ihre Kompetenzen in praxisorientiertem Projektmanagement vertiefen wollen. Besonders angesprochen sind Personen\, die ihre Fähigkeiten in lateraler Führung\, Kommunikation\, Stakeholdermanagement sowie in der strukturierten Entscheidungsvorbereitung und Governance weiterentwickeln möchten. \nIn diesem Seminar lernen die Teilnehmer:innen die essenziellen Methoden und Instrumente des Projektmanagements kennen und erlangen die Fähigkeit\, diese situationsadäquat einzusetzen. Nach diesem Seminar sind die Teilnehmer:innen bestens gerüstet\, branchenübergreifend und projektartunabhängig ihre\nProjekte souverän zu planen und die erfolgskritischen organisatorischen Rahmenbedingungen zu schaffen. \nInhalte: \n\nAktuarielle Projektrealität\nLaterales Führen\nPraxisorientiertes Projektmanagement\nKommunikation & Stakeholdermanagement\nEntscheidungsvorbereitung & Governance\n\nCDP-Punkte: 1 \n\nÜber die Vortragenden: \nOliver Dragouns Tätigkeitsfelder umfassen Trainings und Personalentwicklung im Projekt- und Prozessmanagement\, das Coaching komplexer Projekte und Programme sowie die Beratung und Professionalisierung projektorientierter Organisationen\, einschließlich Zertifizierungsvorbereitungen (IPMA®\, TÜV Austria) und Lehrtätigkeit an der FH St. Pölten.\nSeine Erfahrung beinhaltet den Aufbau von Organisationseinheiten\, die Implementierung und Optimierung von Prozessen für internationale Kunden sowie die Entwicklung unternehmensweiter Projektmanagementsysteme und die Durchführung globaler Qualifizierungsmaßnahmen.\nAktuell liegt sein Fokus auf Projektmanagement-Trainings\, Coaching komplexer Vorhaben und weiteren Professionalisierungsinitiativen.
URL:https://oefdv.avoe.at/event/soft-skills-fuer-aktuarinnen/
ORGANIZER;CN="%C3%96FdV GmbH":MAILTO:sekretariat@oefdv-gmbh.at
END:VEVENT
BEGIN:VEVENT
DTSTART;TZID=Europe/Vienna:20260625T090000
DTEND;TZID=Europe/Vienna:20260625T123000
DTSTAMP:20260421T103946
CREATED:20260317T115402Z
LAST-MODIFIED:20260414T172741Z
UID:10000116-1782378000-1782390600@oefdv.avoe.at
SUMMARY:Life Insurance Across Europe - An Overview from an Actuarial Perspective
DESCRIPTION:While life insurance across Europe serves similar fundamental purposes\, its practical implementation varies significantly across jurisdictions. Each market is shaped by its own regulatory framework\, tax environment\, product design traditions\, and demographic dynamics. \nThis seminar aims to broaden perspectives beyond national boundaries by providing a structured\, comparative overview of European life insurance markets. Selected countries will be examined with a focus on typical products\, regulatory and legal frameworks\, pricing and reserving methodologies\, and the key current and emerging challenges for actuaries. \nSpeakers: \n\nGermany: Alexander Kling\, ifa Ulm\nSwitzerland: Frank Genheimer\, new insurance business\nFrance: TBD\nItaly: Federico Scamperle\, Assicurazioni Generali S.p.A.\nUK: TBD\nDenmark: Sam Achord\, PensionDanmark\nFinland: Esko Kivisaari\nPoland: Pawel Sikora\, Vienna Life\nSlowakia: Maria Kamenarova\nHungary: TBD\nOverview over other Eastern European countries: Laszlo Koltai\, Vienna Insurance Group\n\nType of event: online via MS-Teams\nLanguage of the event: English\nCosts: 150 EUR for both half-days\nCPD-Points (Austria): 6 Points\, IDD-Credits: 6 (Module 2)\nDates: \n\nThursday\, 25 June\, 9:00–12:30 (CEST)\nMonday\, 29 June\, 14:00–17:30 (CEST)\n\n\nTarget group:\nThe seminar is primarily aimed at actuaries\, and all speakers are actuaries\, but the presentations will not dig into actuarial details. It is also well-suited for other interested professionals\, such as staff in insurance accounting or controlling\, sales agents\, brokers\, and marketing professionals. \nContents:\nThis online seminar is aimed at providing Actuaries with insights into life insurance markets across Europe. The objective is to move beyond a purely national perspective and to develop a broader understanding of product design\, regulatory frameworks\, and actuarial practices in different countries. \nFrom a variety of countries well-known speakers will join us\, covering key aspects of the respective market. These include typical life insurance products (such as traditional\, unit-linked\, protection\, and pension products)\, main target groups\, as well as legal and supervisory requirements and tax treatment. In addition\, topics such as profit participation mechanisms\, minimum biometric risk requirements\, pricing practices (including cost structures)\, and reserving approaches will be addressed. Further country-specific features may also be included to provide a comprehensive overview of the structure and particularities of each market. \nAbout the Speakers:\nFrank Genheimer is Managing Director and Partner at New Insurance Business (Switzerland). He works at the intersection of actuarial science\, product architecture\, and capital markets\, focusing on how life insurance can evolve from standalone products to integrated financial systems. A trained actuary with a strong product DNA\, he combines actuarial expertise with hands-on experience across the full value chain of life insurance – from product development and investment strategy to distribution and inforce management. Frank is a regular speaker at international actuarial and financial industry events and a member of the German and the Swiss Association of Actuaries. \nEsko Kivisaari \nMaster of Science\, Fellow of the Actuarial Society of Finland.\nPast President of the Actuarial Association of Europe. Currently Chair of the Artificial Intelligence & Data Science Working Group of the AAE.\nNon-Executive Director at Fennia\, Mutual Insurance Company. Consulting under the name ‘Actuarial Consulting and Insulting Esko Kivisaari’.\nFormerly Deputy Managing Director of Finance Finland\, the industry lobby of insurance and banking sectors in Finland. During those times member of the Board of Insurance Europe\, as well as occasionally member of the Board of European Banking Federation.\nHobbies: classical guitar and choir
URL:https://oefdv.avoe.at/event/produkte-und-lebensversicherungsmarkt-internationaler-ueberblick/2026-06-25/
LOCATION:Online-Veranstaltung (MS Teams)
ORGANIZER;CN="%C3%96FdV GmbH":MAILTO:sekretariat@oefdv-gmbh.at
END:VEVENT
BEGIN:VEVENT
DTSTART;TZID=Europe/Vienna:20260629T140000
DTEND;TZID=Europe/Vienna:20260629T173000
DTSTAMP:20260421T103946
CREATED:20260317T115402Z
LAST-MODIFIED:20260414T172741Z
UID:10000117-1782741600-1782754200@oefdv.avoe.at
SUMMARY:Life Insurance Across Europe - An Overview from an Actuarial Perspective
DESCRIPTION:While life insurance across Europe serves similar fundamental purposes\, its practical implementation varies significantly across jurisdictions. Each market is shaped by its own regulatory framework\, tax environment\, product design traditions\, and demographic dynamics. \nThis seminar aims to broaden perspectives beyond national boundaries by providing a structured\, comparative overview of European life insurance markets. Selected countries will be examined with a focus on typical products\, regulatory and legal frameworks\, pricing and reserving methodologies\, and the key current and emerging challenges for actuaries. \nSpeakers: \n\nGermany: Alexander Kling\, ifa Ulm\nSwitzerland: Frank Genheimer\, new insurance business\nFrance: TBD\nItaly: Federico Scamperle\, Assicurazioni Generali S.p.A.\nUK: TBD\nDenmark: Sam Achord\, PensionDanmark\nFinland: Esko Kivisaari\nPoland: Pawel Sikora\, Vienna Life\nSlowakia: Maria Kamenarova\nHungary: TBD\nOverview over other Eastern European countries: Laszlo Koltai\, Vienna Insurance Group\n\nType of event: online via MS-Teams\nLanguage of the event: English\nCosts: 150 EUR for both half-days\nCPD-Points (Austria): 6 Points\, IDD-Credits: 6 (Module 2)\nDates: \n\nThursday\, 25 June\, 9:00–12:30 (CEST)\nMonday\, 29 June\, 14:00–17:30 (CEST)\n\n\nTarget group:\nThe seminar is primarily aimed at actuaries\, and all speakers are actuaries\, but the presentations will not dig into actuarial details. It is also well-suited for other interested professionals\, such as staff in insurance accounting or controlling\, sales agents\, brokers\, and marketing professionals. \nContents:\nThis online seminar is aimed at providing Actuaries with insights into life insurance markets across Europe. The objective is to move beyond a purely national perspective and to develop a broader understanding of product design\, regulatory frameworks\, and actuarial practices in different countries. \nFrom a variety of countries well-known speakers will join us\, covering key aspects of the respective market. These include typical life insurance products (such as traditional\, unit-linked\, protection\, and pension products)\, main target groups\, as well as legal and supervisory requirements and tax treatment. In addition\, topics such as profit participation mechanisms\, minimum biometric risk requirements\, pricing practices (including cost structures)\, and reserving approaches will be addressed. Further country-specific features may also be included to provide a comprehensive overview of the structure and particularities of each market. \nAbout the Speakers:\nFrank Genheimer is Managing Director and Partner at New Insurance Business (Switzerland). He works at the intersection of actuarial science\, product architecture\, and capital markets\, focusing on how life insurance can evolve from standalone products to integrated financial systems. A trained actuary with a strong product DNA\, he combines actuarial expertise with hands-on experience across the full value chain of life insurance – from product development and investment strategy to distribution and inforce management. Frank is a regular speaker at international actuarial and financial industry events and a member of the German and the Swiss Association of Actuaries. \nEsko Kivisaari \nMaster of Science\, Fellow of the Actuarial Society of Finland.\nPast President of the Actuarial Association of Europe. Currently Chair of the Artificial Intelligence & Data Science Working Group of the AAE.\nNon-Executive Director at Fennia\, Mutual Insurance Company. Consulting under the name ‘Actuarial Consulting and Insulting Esko Kivisaari’.\nFormerly Deputy Managing Director of Finance Finland\, the industry lobby of insurance and banking sectors in Finland. During those times member of the Board of Insurance Europe\, as well as occasionally member of the Board of European Banking Federation.\nHobbies: classical guitar and choir
URL:https://oefdv.avoe.at/event/produkte-und-lebensversicherungsmarkt-internationaler-ueberblick/2026-06-29/
LOCATION:Online-Veranstaltung (MS Teams)
ORGANIZER;CN="%C3%96FdV GmbH":MAILTO:sekretariat@oefdv-gmbh.at
END:VEVENT
END:VCALENDAR